BEGIN:VCALENDAR
PRODID:-//AT Content Types//AT Event//EN
VERSION:2.0
METHOD:PUBLISH
BEGIN:VEVENT
DTSTAMP:20260423T165721Z
CREATED:20121015T234013Z
UID:ATEvent-cbac1d12-4be3-4db0-b564-876c39584c9f
LAST-MODIFIED:20121015T234339Z
SUMMARY:PREVENOR 2012
DTSTART:20121205T110000Z
DTEND:20121207T210000Z
LOCATION:RECIFE/PE
URL:http://www.protecaoeventos.com.br/eventos/content/evento/?id_eventopai=502
CLASS:PUBLIC
END:VEVENT
END:VCALENDAR
